BEGIN:VCALENDAR
VERSION:2.0
PRODID:-//Carnets du passage - ECPv6.15.20//NONSGML v1.0//EN
CALSCALE:GREGORIAN
METHOD:PUBLISH
X-ORIGINAL-URL:http://carnetsdupassage.fr
X-WR-CALDESC:Évènements pour Carnets du passage
REFRESH-INTERVAL;VALUE=DURATION:PT1H
X-Robots-Tag:noindex
X-PUBLISHED-TTL:PT1H
BEGIN:VTIMEZONE
TZID:Europe/Paris
BEGIN:DAYLIGHT
TZOFFSETFROM:+0100
TZOFFSETTO:+0200
TZNAME:CEST
DTSTART:20230326T010000
END:DAYLIGHT
BEGIN:STANDARD
TZOFFSETFROM:+0200
TZOFFSETTO:+0100
TZNAME:CET
DTSTART:20231029T010000
END:STANDARD
BEGIN:DAYLIGHT
TZOFFSETFROM:+0100
TZOFFSETTO:+0200
TZNAME:CEST
DTSTART:20240331T010000
END:DAYLIGHT
BEGIN:STANDARD
TZOFFSETFROM:+0200
TZOFFSETTO:+0100
TZNAME:CET
DTSTART:20241027T010000
END:STANDARD
BEGIN:DAYLIGHT
TZOFFSETFROM:+0100
TZOFFSETTO:+0200
TZNAME:CEST
DTSTART:20250330T010000
END:DAYLIGHT
BEGIN:STANDARD
TZOFFSETFROM:+0200
TZOFFSETTO:+0100
TZNAME:CET
DTSTART:20251026T010000
END:STANDARD
END:VTIMEZONE
BEGIN:VEVENT
DTSTART;TZID=Europe/Paris:20241205T093000
DTEND;TZID=Europe/Paris:20241205T120000
DTSTAMP:20260426T053658
CREATED:20240703T225929Z
LAST-MODIFIED:20240703T225929Z
UID:1412-1733391000-1733400000@carnetsdupassage.fr
SUMMARY:La fabrique des personnages
DESCRIPTION:Atelier régulier.\nInsufflez la vie à vos personnages en leur donnant corps\, voix\, personnalité et émotions.\nAvec Anne-Sophie Prost
URL:http://carnetsdupassage.fr/event/la-fabrique-des-personnages-21/
LOCATION:Quartier Montreuil\, Versailles\, 78000\, France
CATEGORIES:Ateliers réguliers Versailles
ORGANIZER;CN="Carnets du passage":MAILTO:contact@carnetsdupassage.fr
END:VEVENT
END:VCALENDAR