BEGIN:VCALENDAR
VERSION:2.0
PRODID:-//Carnets du passage - ECPv6.15.20//NONSGML v1.0//EN
CALSCALE:GREGORIAN
METHOD:PUBLISH
X-ORIGINAL-URL:http://carnetsdupassage.fr
X-WR-CALDESC:Évènements pour Carnets du passage
REFRESH-INTERVAL;VALUE=DURATION:PT1H
X-Robots-Tag:noindex
X-PUBLISHED-TTL:PT1H
BEGIN:VTIMEZONE
TZID:Europe/Paris
BEGIN:DAYLIGHT
TZOFFSETFROM:+0100
TZOFFSETTO:+0200
TZNAME:CEST
DTSTART:20250330T010000
END:DAYLIGHT
BEGIN:STANDARD
TZOFFSETFROM:+0200
TZOFFSETTO:+0100
TZNAME:CET
DTSTART:20251026T010000
END:STANDARD
BEGIN:DAYLIGHT
TZOFFSETFROM:+0100
TZOFFSETTO:+0200
TZNAME:CEST
DTSTART:20260329T010000
END:DAYLIGHT
BEGIN:STANDARD
TZOFFSETFROM:+0200
TZOFFSETTO:+0100
TZNAME:CET
DTSTART:20261025T010000
END:STANDARD
BEGIN:DAYLIGHT
TZOFFSETFROM:+0100
TZOFFSETTO:+0200
TZNAME:CEST
DTSTART:20270328T010000
END:DAYLIGHT
BEGIN:STANDARD
TZOFFSETFROM:+0200
TZOFFSETTO:+0100
TZNAME:CET
DTSTART:20271031T010000
END:STANDARD
END:VTIMEZONE
BEGIN:VEVENT
DTSTART;TZID=Europe/Paris:20260505T094500
DTEND;TZID=Europe/Paris:20260505T121500
DTSTAMP:20260425T002208
CREATED:20250615T151116Z
LAST-MODIFIED:20250615T161119Z
UID:2474-1777974300-1777983300@carnetsdupassage.fr
SUMMARY:Écrire et voyager
DESCRIPTION:Atelier régulier. Vagabondez d’un espace à un autre\, voyagez à travers les mots vers des mondes réels ou imaginaires.\nAvec Anne-Sophie Prost
URL:http://carnetsdupassage.fr/event/ecrire-et-publier/
LOCATION:Quartier Montreuil\, Versailles\, 78000\, France
CATEGORIES:Ateliers réguliers Versailles
ORGANIZER;CN="Carnets du passage":MAILTO:contact@carnetsdupassage.fr
END:VEVENT
BEGIN:VEVENT
DTSTART;TZID=Europe/Paris:20260506T193000
DTEND;TZID=Europe/Paris:20260506T220000
DTSTAMP:20260425T002208
CREATED:20250615T152814Z
LAST-MODIFIED:20250615T152814Z
UID:2504-1778095800-1778104800@carnetsdupassage.fr
SUMMARY:Explorer le champ des possibles
DESCRIPTION:Atelier régulier. Sur les pas d’auteurs célèbres\, faites de l’écriture un vaste champ d’expérimentations créatives.\nAvec Anne-Sophie Prost
URL:http://carnetsdupassage.fr/event/explorer-le-champ-des-possibles-38/
LOCATION:Quartier Montreuil\, Versailles\, 78000\, France
CATEGORIES:Ateliers réguliers Versailles
ORGANIZER;CN="Carnets du passage":MAILTO:contact@carnetsdupassage.fr
END:VEVENT
BEGIN:VEVENT
DTSTART;TZID=Europe/Paris:20260519T093000
DTEND;TZID=Europe/Paris:20260519T120000
DTSTAMP:20260425T002208
CREATED:20250615T132753Z
LAST-MODIFIED:20250615T132753Z
UID:2442-1779183000-1779192000@carnetsdupassage.fr
SUMMARY:L'écriture dans tous ses états
DESCRIPTION:Atelier régulier. Alternant styles et rythmes\, écrivez le rêve\, le suspense\, le murmure des pensées\, « la vie des gens ».\nAvec Anne-Sophie Prost
URL:http://carnetsdupassage.fr/event/lecriture-dans-tous-ses-etats-37/
LOCATION:Quartier Montreuil\, Versailles\, 78000\, France
CATEGORIES:Ateliers réguliers Versailles
ORGANIZER;CN="Carnets du passage":MAILTO:contact@carnetsdupassage.fr
END:VEVENT
BEGIN:VEVENT
DTSTART;TZID=Europe/Paris:20260521T093000
DTEND;TZID=Europe/Paris:20260521T120000
DTSTAMP:20260425T002208
CREATED:20250615T154508Z
LAST-MODIFIED:20250615T154508Z
UID:2535-1779355800-1779364800@carnetsdupassage.fr
SUMMARY:Écrire des histoires
DESCRIPTION:Atelier régulier. Construisez des histoires en jonglant avec les événements d’hier et de demain\, le temps de l’histoire et le temps du récit.\nAvec Anne-Sophie Prost
URL:http://carnetsdupassage.fr/event/ecrire-des-histoires-53/
LOCATION:Quartier Montreuil\, Versailles\, 78000\, France
CATEGORIES:Ateliers réguliers Versailles
ORGANIZER;CN="Carnets du passage":MAILTO:contact@carnetsdupassage.fr
END:VEVENT
BEGIN:VEVENT
DTSTART;TZID=Europe/Paris:20260526T094500
DTEND;TZID=Europe/Paris:20260526T121500
DTSTAMP:20260425T002208
CREATED:20250615T151235Z
LAST-MODIFIED:20250615T151235Z
UID:2476-1779788700-1779797700@carnetsdupassage.fr
SUMMARY:Écrire et voyager
DESCRIPTION:Atelier régulier. Vagabondez d’un espace à un autre\, voyagez à travers les mots vers des mondes réels ou imaginaires.\nAvec Anne-Sophie Prost
URL:http://carnetsdupassage.fr/event/ecrire-et-voyager-34/
LOCATION:Quartier Montreuil\, Versailles\, 78000\, France
CATEGORIES:Ateliers réguliers Versailles
ORGANIZER;CN="Carnets du passage":MAILTO:contact@carnetsdupassage.fr
END:VEVENT
BEGIN:VEVENT
DTSTART;TZID=Europe/Paris:20260527T193000
DTEND;TZID=Europe/Paris:20260527T220000
DTSTAMP:20260425T002208
CREATED:20250615T152917Z
LAST-MODIFIED:20250615T152917Z
UID:2506-1779910200-1779919200@carnetsdupassage.fr
SUMMARY:Explorer le champ des possibles
DESCRIPTION:Atelier régulier. Sur les pas d’auteurs célèbres\, faites de l’écriture un vaste champ d’expérimentations créatives.\nAvec Anne-Sophie Prost
URL:http://carnetsdupassage.fr/event/explorer-le-champ-des-possibles-39/
LOCATION:Quartier Montreuil\, Versailles\, 78000\, France
CATEGORIES:Ateliers réguliers Versailles
ORGANIZER;CN="Carnets du passage":MAILTO:contact@carnetsdupassage.fr
END:VEVENT
BEGIN:VEVENT
DTSTART;TZID=Europe/Paris:20260529T140000
DTEND;TZID=Europe/Paris:20260529T163000
DTSTAMP:20260425T002208
CREATED:20250615T161339Z
LAST-MODIFIED:20250615T161339Z
UID:2571-1780063200-1780072200@carnetsdupassage.fr
SUMMARY:La fabrique des personnages
DESCRIPTION:Atelier régulier. Insufflez la vie à vos personnages en leur donnant corps\, voix\, personnalité et émotions.\nAvec Anne-Sophie Prost
URL:http://carnetsdupassage.fr/event/la-fabrique-des-personnages-60/
LOCATION:Quartier Montreuil\, Versailles\, 78000\, France
CATEGORIES:Ateliers réguliers Versailles
ORGANIZER;CN="Carnets du passage":MAILTO:contact@carnetsdupassage.fr
END:VEVENT
END:VCALENDAR