BEGIN:VCALENDAR
VERSION:2.0
PRODID:-//Carnets du passage - ECPv6.15.20//NONSGML v1.0//EN
CALSCALE:GREGORIAN
METHOD:PUBLISH
X-ORIGINAL-URL:http://carnetsdupassage.fr
X-WR-CALDESC:Évènements pour Carnets du passage
REFRESH-INTERVAL;VALUE=DURATION:PT1H
X-Robots-Tag:noindex
X-PUBLISHED-TTL:PT1H
BEGIN:VTIMEZONE
TZID:Europe/Paris
BEGIN:DAYLIGHT
TZOFFSETFROM:+0100
TZOFFSETTO:+0200
TZNAME:CEST
DTSTART:20250330T010000
END:DAYLIGHT
BEGIN:STANDARD
TZOFFSETFROM:+0200
TZOFFSETTO:+0100
TZNAME:CET
DTSTART:20251026T010000
END:STANDARD
BEGIN:DAYLIGHT
TZOFFSETFROM:+0100
TZOFFSETTO:+0200
TZNAME:CEST
DTSTART:20260329T010000
END:DAYLIGHT
BEGIN:STANDARD
TZOFFSETFROM:+0200
TZOFFSETTO:+0100
TZNAME:CET
DTSTART:20261025T010000
END:STANDARD
BEGIN:DAYLIGHT
TZOFFSETFROM:+0100
TZOFFSETTO:+0200
TZNAME:CEST
DTSTART:20270328T010000
END:DAYLIGHT
BEGIN:STANDARD
TZOFFSETFROM:+0200
TZOFFSETTO:+0100
TZNAME:CET
DTSTART:20271031T010000
END:STANDARD
END:VTIMEZONE
BEGIN:VEVENT
DTSTART;TZID=Europe/Paris:20260203T094500
DTEND;TZID=Europe/Paris:20260203T121500
DTSTAMP:20260425T021823
CREATED:20250615T150513Z
LAST-MODIFIED:20250615T150513Z
UID:2464-1770111900-1770120900@carnetsdupassage.fr
SUMMARY:Écrire et voyager
DESCRIPTION:Atelier régulier. Vagabondez d’un espace à un autre\, voyagez à travers les mots vers des mondes réels ou imaginaires.\nAvec Anne-Sophie Prost
URL:http://carnetsdupassage.fr/event/ecrire-et-voyager-29/
LOCATION:Quartier Montreuil\, Versailles\, 78000\, France
CATEGORIES:Ateliers réguliers Versailles
ORGANIZER;CN="Carnets du passage":MAILTO:contact@carnetsdupassage.fr
END:VEVENT
BEGIN:VEVENT
DTSTART;TZID=Europe/Paris:20260204T193000
DTEND;TZID=Europe/Paris:20260204T220000
DTSTAMP:20260425T021823
CREATED:20250615T152400Z
LAST-MODIFIED:20250615T152400Z
UID:2496-1770233400-1770242400@carnetsdupassage.fr
SUMMARY:Explorer le champ des possibles
DESCRIPTION:Atelier régulier. Sur les pas d’auteurs célèbres\, faites de l’écriture un vaste champ d’expérimentations créatives.\nAvec Anne-Sophie Prost
URL:http://carnetsdupassage.fr/event/explorer-le-champ-des-possibles-34/
LOCATION:Quartier Montreuil\, Versailles\, 78000\, France
CATEGORIES:Ateliers réguliers Versailles
ORGANIZER;CN="Carnets du passage":MAILTO:contact@carnetsdupassage.fr
END:VEVENT
BEGIN:VEVENT
DTSTART;TZID=Europe/Paris:20260206T140000
DTEND;TZID=Europe/Paris:20260206T163000
DTSTAMP:20260425T021823
CREATED:20250615T160018Z
LAST-MODIFIED:20250615T160018Z
UID:2558-1770386400-1770395400@carnetsdupassage.fr
SUMMARY:La fabrique des personnages
DESCRIPTION:Atelier régulier. Insufflez la vie à vos personnages en leur donnant corps\, voix\, personnalité et émotions.\nAvec Anne-Sophie Prost
URL:http://carnetsdupassage.fr/event/la-fabrique-des-personnages-54/
LOCATION:Quartier Montreuil\, Versailles\, 78000\, France
CATEGORIES:Ateliers réguliers Versailles
ORGANIZER;CN="Carnets du passage":MAILTO:contact@carnetsdupassage.fr
END:VEVENT
BEGIN:VEVENT
DTSTART;TZID=Europe/Paris:20260210T093000
DTEND;TZID=Europe/Paris:20260210T120000
DTSTAMP:20260425T021823
CREATED:20250615T132421Z
LAST-MODIFIED:20250615T132421Z
UID:2434-1770715800-1770724800@carnetsdupassage.fr
SUMMARY:L'écriture dans tous ses états
DESCRIPTION:Atelier régulier. Alternant styles et rythmes\, écrivez le rêve\, le suspense\, le murmure des pensées\, « la vie des gens ».\nAvec Anne-Sophie Prost
URL:http://carnetsdupassage.fr/event/lecriture-dans-tous-ses-etats-33/
LOCATION:Quartier Montreuil\, Versailles\, 78000\, France
CATEGORIES:Ateliers réguliers Versailles
ORGANIZER;CN="Carnets du passage":MAILTO:contact@carnetsdupassage.fr
END:VEVENT
BEGIN:VEVENT
DTSTART;TZID=Europe/Paris:20260212T093000
DTEND;TZID=Europe/Paris:20260212T120000
DTSTAMP:20260425T021823
CREATED:20250615T154043Z
LAST-MODIFIED:20250615T154043Z
UID:2527-1770888600-1770897600@carnetsdupassage.fr
SUMMARY:Écrire des histoires
DESCRIPTION:Atelier régulier. Construisez des histoires en jonglant avec les événements d’hier et de demain\, le temps de l’histoire et le temps du récit.\nAvec Anne-Sophie Prost
URL:http://carnetsdupassage.fr/event/ecrire-des-histoires-49/
LOCATION:Quartier Montreuil\, Versailles\, 78000\, France
CATEGORIES:Ateliers réguliers Versailles
ORGANIZER;CN="Carnets du passage":MAILTO:contact@carnetsdupassage.fr
END:VEVENT
BEGIN:VEVENT
DTSTART;TZID=Europe/Paris:20260217T094500
DTEND;TZID=Europe/Paris:20260217T121500
DTSTAMP:20260425T021823
CREATED:20250615T150622Z
LAST-MODIFIED:20250615T150622Z
UID:2466-1771321500-1771330500@carnetsdupassage.fr
SUMMARY:Écrire et voyager
DESCRIPTION:Atelier régulier. Vagabondez d’un espace à un autre\, voyagez à travers les mots vers des mondes réels ou imaginaires.\nAvec Anne-Sophie Prost
URL:http://carnetsdupassage.fr/event/ecrire-et-voyager-30/
LOCATION:Quartier Montreuil\, Versailles\, 78000\, France
CATEGORIES:Ateliers réguliers Versailles
ORGANIZER;CN="Carnets du passage":MAILTO:contact@carnetsdupassage.fr
END:VEVENT
END:VCALENDAR