BEGIN:VCALENDAR
VERSION:2.0
PRODID:-//Carnets du passage - ECPv6.15.20//NONSGML v1.0//EN
CALSCALE:GREGORIAN
METHOD:PUBLISH
X-ORIGINAL-URL:http://carnetsdupassage.fr
X-WR-CALDESC:Évènements pour Carnets du passage
REFRESH-INTERVAL;VALUE=DURATION:PT1H
X-Robots-Tag:noindex
X-PUBLISHED-TTL:PT1H
BEGIN:VTIMEZONE
TZID:Europe/Paris
BEGIN:DAYLIGHT
TZOFFSETFROM:+0100
TZOFFSETTO:+0200
TZNAME:CEST
DTSTART:20250330T010000
END:DAYLIGHT
BEGIN:STANDARD
TZOFFSETFROM:+0200
TZOFFSETTO:+0100
TZNAME:CET
DTSTART:20251026T010000
END:STANDARD
BEGIN:DAYLIGHT
TZOFFSETFROM:+0100
TZOFFSETTO:+0200
TZNAME:CEST
DTSTART:20260329T010000
END:DAYLIGHT
BEGIN:STANDARD
TZOFFSETFROM:+0200
TZOFFSETTO:+0100
TZNAME:CET
DTSTART:20261025T010000
END:STANDARD
BEGIN:DAYLIGHT
TZOFFSETFROM:+0100
TZOFFSETTO:+0200
TZNAME:CEST
DTSTART:20270328T010000
END:DAYLIGHT
BEGIN:STANDARD
TZOFFSETFROM:+0200
TZOFFSETTO:+0100
TZNAME:CET
DTSTART:20271031T010000
END:STANDARD
END:VTIMEZONE
BEGIN:VEVENT
DTSTART;TZID=Europe/Paris:20260106T094500
DTEND;TZID=Europe/Paris:20260106T121500
DTSTAMP:20260425T041304
CREATED:20250615T150216Z
LAST-MODIFIED:20260107T102449Z
UID:2460-1767692700-1767701700@carnetsdupassage.fr
SUMMARY:Atelier annulé - Écrire et voyager
DESCRIPTION:Atelier régulier. Vagabondez d’un espace à un autre\, voyagez à travers les mots vers des mondes réels ou imaginaires.\nAvec Anne-Sophie Prost
URL:http://carnetsdupassage.fr/event/ecrire-et-voyager-27/
LOCATION:Quartier Montreuil\, Versailles\, 78000\, France
CATEGORIES:Ateliers réguliers Versailles
ORGANIZER;CN="Carnets du passage":MAILTO:contact@carnetsdupassage.fr
END:VEVENT
BEGIN:VEVENT
DTSTART;TZID=Europe/Paris:20260107T193000
DTEND;TZID=Europe/Paris:20260107T220000
DTSTAMP:20260425T041304
CREATED:20250615T152153Z
LAST-MODIFIED:20260107T102521Z
UID:2492-1767814200-1767823200@carnetsdupassage.fr
SUMMARY:Atelier annulé - Explorer le champ des possibles
DESCRIPTION:Atelier régulier. Sur les pas d’auteurs célèbres\, faites de l’écriture un vaste champ d’expérimentations créatives.\nAvec Anne-Sophie Prost
URL:http://carnetsdupassage.fr/event/explorer-le-champ-des-possibles-32/
LOCATION:Quartier Montreuil\, Versailles\, 78000\, France
CATEGORIES:Ateliers réguliers Versailles
ORGANIZER;CN="Carnets du passage":MAILTO:contact@carnetsdupassage.fr
END:VEVENT
BEGIN:VEVENT
DTSTART;TZID=Europe/Paris:20260109T140000
DTEND;TZID=Europe/Paris:20260109T163000
DTSTAMP:20260425T041304
CREATED:20250615T155731Z
LAST-MODIFIED:20260107T102548Z
UID:2554-1767967200-1767976200@carnetsdupassage.fr
SUMMARY:Atelier annulé - La fabrique des personnages
DESCRIPTION:Atelier régulier. Insufflez la vie à vos personnages en leur donnant corps\, voix\, personnalité et émotions.\nAvec Anne-Sophie Prost
URL:http://carnetsdupassage.fr/event/la-fabrique-des-personnages-52/
LOCATION:Quartier Montreuil\, Versailles\, 78000\, France
CATEGORIES:Ateliers réguliers Versailles
ORGANIZER;CN="Carnets du passage":MAILTO:contact@carnetsdupassage.fr
END:VEVENT
BEGIN:VEVENT
DTSTART;TZID=Europe/Paris:20260113T093000
DTEND;TZID=Europe/Paris:20260113T120000
DTSTAMP:20260425T041304
CREATED:20250615T132234Z
LAST-MODIFIED:20260128T124641Z
UID:2430-1768296600-1768305600@carnetsdupassage.fr
SUMMARY:L'écriture dans tous ses états - atelier annulé
DESCRIPTION:Atelier régulier. Alternant styles et rythmes\, écrivez le rêve\, le suspense\, le murmure des pensées\, « la vie des gens ».\nAvec Anne-Sophie Prost
URL:http://carnetsdupassage.fr/event/lecriture-dans-tous-ses-etats-31/
LOCATION:Quartier Montreuil\, Versailles\, 78000\, France
CATEGORIES:Ateliers réguliers Versailles
ORGANIZER;CN="Carnets du passage":MAILTO:contact@carnetsdupassage.fr
END:VEVENT
BEGIN:VEVENT
DTSTART;TZID=Europe/Paris:20260115T093000
DTEND;TZID=Europe/Paris:20260115T120000
DTSTAMP:20260425T041304
CREATED:20250615T153845Z
LAST-MODIFIED:20260128T124704Z
UID:2523-1768469400-1768478400@carnetsdupassage.fr
SUMMARY:Écrire des histoires - atelier annulé
DESCRIPTION:Atelier régulier. Construisez des histoires en jonglant avec les événements d’hier et de demain\, le temps de l’histoire et le temps du récit.\nAvec Anne-Sophie Prost
URL:http://carnetsdupassage.fr/event/ecrire-des-histoires-47/
LOCATION:Quartier Montreuil\, Versailles\, 78000\, France
CATEGORIES:Ateliers réguliers Versailles
ORGANIZER;CN="Carnets du passage":MAILTO:contact@carnetsdupassage.fr
END:VEVENT
BEGIN:VEVENT
DTSTART;TZID=Europe/Paris:20260120T094500
DTEND;TZID=Europe/Paris:20260120T121500
DTSTAMP:20260425T041304
CREATED:20250615T150339Z
LAST-MODIFIED:20260128T124518Z
UID:2462-1768902300-1768911300@carnetsdupassage.fr
SUMMARY:Écrire et voyager - atelier annulé
DESCRIPTION:Atelier régulier. Vagabondez d’un espace à un autre\, voyagez à travers les mots vers des mondes réels ou imaginaires.\nAvec Anne-Sophie Prost
URL:http://carnetsdupassage.fr/event/ecrire-et-voyager-28/
LOCATION:Quartier Montreuil\, Versailles\, 78000\, France
CATEGORIES:Ateliers réguliers Versailles
ORGANIZER;CN="Carnets du passage":MAILTO:contact@carnetsdupassage.fr
END:VEVENT
BEGIN:VEVENT
DTSTART;TZID=Europe/Paris:20260121T193000
DTEND;TZID=Europe/Paris:20260121T220000
DTSTAMP:20260425T041304
CREATED:20250615T152259Z
LAST-MODIFIED:20260128T124543Z
UID:2494-1769023800-1769032800@carnetsdupassage.fr
SUMMARY:Explorer le champ des possibles - atelier annulé
DESCRIPTION:Atelier régulier. Sur les pas d’auteurs célèbres\, faites de l’écriture un vaste champ d’expérimentations créatives.\nAvec Anne-Sophie Prost
URL:http://carnetsdupassage.fr/event/explorer-le-champ-des-possibles-33/
LOCATION:Quartier Montreuil\, Versailles\, 78000\, France
CATEGORIES:Ateliers réguliers Versailles
ORGANIZER;CN="Carnets du passage":MAILTO:contact@carnetsdupassage.fr
END:VEVENT
BEGIN:VEVENT
DTSTART;TZID=Europe/Paris:20260123T140000
DTEND;TZID=Europe/Paris:20260123T163000
DTSTAMP:20260425T041304
CREATED:20250615T155849Z
LAST-MODIFIED:20260128T124606Z
UID:2556-1769176800-1769185800@carnetsdupassage.fr
SUMMARY:La fabrique des personnages - atelier annulé
DESCRIPTION:Atelier régulier. Insufflez la vie à vos personnages en leur donnant corps\, voix\, personnalité et émotions.\nAvec Anne-Sophie Prost
URL:http://carnetsdupassage.fr/event/la-fabrique-des-personnages-53/
LOCATION:Quartier Montreuil\, Versailles\, 78000\, France
CATEGORIES:Ateliers réguliers Versailles
ORGANIZER;CN="Carnets du passage":MAILTO:contact@carnetsdupassage.fr
END:VEVENT
BEGIN:VEVENT
DTSTART;TZID=Europe/Paris:20260127T093000
DTEND;TZID=Europe/Paris:20260127T120000
DTSTAMP:20260425T041304
CREATED:20250615T132323Z
LAST-MODIFIED:20260128T124740Z
UID:2432-1769506200-1769515200@carnetsdupassage.fr
SUMMARY:L'écriture dans tous ses états - atelier annulé
DESCRIPTION:Atelier régulier. Alternant styles et rythmes\, écrivez le rêve\, le suspense\, le murmure des pensées\, « la vie des gens ».\nAvec Anne-Sophie Prost
URL:http://carnetsdupassage.fr/event/lecriture-dans-tous-ses-etats-32/
LOCATION:Quartier Montreuil\, Versailles\, 78000\, France
CATEGORIES:Ateliers réguliers Versailles
ORGANIZER;CN="Carnets du passage":MAILTO:contact@carnetsdupassage.fr
END:VEVENT
BEGIN:VEVENT
DTSTART;TZID=Europe/Paris:20260129T093000
DTEND;TZID=Europe/Paris:20260129T120000
DTSTAMP:20260425T041304
CREATED:20250615T153946Z
LAST-MODIFIED:20260128T124810Z
UID:2525-1769679000-1769688000@carnetsdupassage.fr
SUMMARY:Écrire des histoires - atelier annulé
DESCRIPTION:Atelier régulier. Construisez des histoires en jonglant avec les événements d’hier et de demain\, le temps de l’histoire et le temps du récit.\nAvec Anne-Sophie Prost
URL:http://carnetsdupassage.fr/event/ecrire-des-histoires-48/
LOCATION:Quartier Montreuil\, Versailles\, 78000\, France
CATEGORIES:Ateliers réguliers Versailles
ORGANIZER;CN="Carnets du passage":MAILTO:contact@carnetsdupassage.fr
END:VEVENT
END:VCALENDAR