BEGIN:VCALENDAR
VERSION:2.0
PRODID:-//Carnets du passage - ECPv6.15.20//NONSGML v1.0//EN
CALSCALE:GREGORIAN
METHOD:PUBLISH
X-ORIGINAL-URL:http://carnetsdupassage.fr
X-WR-CALDESC:Évènements pour Carnets du passage
REFRESH-INTERVAL;VALUE=DURATION:PT1H
X-Robots-Tag:noindex
X-PUBLISHED-TTL:PT1H
BEGIN:VTIMEZONE
TZID:Europe/Paris
BEGIN:DAYLIGHT
TZOFFSETFROM:+0100
TZOFFSETTO:+0200
TZNAME:CEST
DTSTART:20240331T010000
END:DAYLIGHT
BEGIN:STANDARD
TZOFFSETFROM:+0200
TZOFFSETTO:+0100
TZNAME:CET
DTSTART:20241027T010000
END:STANDARD
BEGIN:DAYLIGHT
TZOFFSETFROM:+0100
TZOFFSETTO:+0200
TZNAME:CEST
DTSTART:20250330T010000
END:DAYLIGHT
BEGIN:STANDARD
TZOFFSETFROM:+0200
TZOFFSETTO:+0100
TZNAME:CET
DTSTART:20251026T010000
END:STANDARD
BEGIN:DAYLIGHT
TZOFFSETFROM:+0100
TZOFFSETTO:+0200
TZNAME:CEST
DTSTART:20260329T010000
END:DAYLIGHT
BEGIN:STANDARD
TZOFFSETFROM:+0200
TZOFFSETTO:+0100
TZNAME:CET
DTSTART:20261025T010000
END:STANDARD
END:VTIMEZONE
BEGIN:VEVENT
DTSTART;TZID=Europe/Paris:20250603T093000
DTEND;TZID=Europe/Paris:20250603T120000
DTSTAMP:20260425T170716
CREATED:20240703T221446Z
LAST-MODIFIED:20240703T221446Z
UID:1398-1748943000-1748952000@carnetsdupassage.fr
SUMMARY:Explorer le champ des possibles
DESCRIPTION:Atelier régulier. Sur les pas d’auteurs célèbres\, faites de l’écriture un vaste champ d’expérimentations créatives.\nAvec Anne-Sophie Prost
URL:http://carnetsdupassage.fr/event/explorer-le-champ-des-possibles-23/
LOCATION:Quartier Montreuil\, Versailles\, 78000\, France
CATEGORIES:Ateliers réguliers Versailles
ORGANIZER;CN="Carnets du passage":MAILTO:contact@carnetsdupassage.fr
END:VEVENT
BEGIN:VEVENT
DTSTART;TZID=Europe/Paris:20250605T093000
DTEND;TZID=Europe/Paris:20250605T120000
DTSTAMP:20260425T170716
CREATED:20240703T231114Z
LAST-MODIFIED:20240703T231114Z
UID:1428-1749115800-1749124800@carnetsdupassage.fr
SUMMARY:La fabrique des personnages
DESCRIPTION:Atelier régulier.\nInsufflez la vie à vos personnages en leur donnant corps\, voix\, personnalité et émotions.\nAvec Anne-Sophie Prost
URL:http://carnetsdupassage.fr/event/la-fabrique-des-personnages-29/
LOCATION:Quartier Montreuil\, Versailles\, 78000\, France
CATEGORIES:Ateliers réguliers Versailles
ORGANIZER;CN="Carnets du passage":MAILTO:contact@carnetsdupassage.fr
END:VEVENT
BEGIN:VEVENT
DTSTART;TZID=Europe/Paris:20250610T093000
DTEND;TZID=Europe/Paris:20250610T120000
DTSTAMP:20260425T170716
CREATED:20240823T184319Z
LAST-MODIFIED:20240823T184319Z
UID:1606-1749547800-1749556800@carnetsdupassage.fr
SUMMARY:Un lieu\, des personnages... toute une histoire !
DESCRIPTION:Atelier régulier\nTravaillez la description\, la caractérisation des personnages\, le point de vue \, l’intrigue\,  le dialogue\, la chute … et prenez plaisir à raconter des histoires\nAvec Anne-Sophie Prost
URL:http://carnetsdupassage.fr/event/un-lieu-des-personnages-toute-une-histoire-24/
LOCATION:Quartier Montreuil\, Versailles\, 78000\, France
CATEGORIES:Ateliers réguliers Versailles
ORGANIZER;CN="Carnets du passage":MAILTO:contact@carnetsdupassage.fr
END:VEVENT
BEGIN:VEVENT
DTSTART;TZID=Europe/Paris:20250613T140000
DTEND;TZID=Europe/Paris:20250613T163000
DTSTAMP:20260425T170716
CREATED:20240704T062529Z
LAST-MODIFIED:20240704T062529Z
UID:1492-1749823200-1749832200@carnetsdupassage.fr
SUMMARY:L'écriture dans tous ses états
DESCRIPTION:Atelier régulier.\nAlternant styles et rythmes\, écrivez le rêve\, le suspense\, le murmure des pensées\, « la vie des gens ».\nAvec Anne-Sophie Prost
URL:http://carnetsdupassage.fr/event/lecriture-dans-tous-ses-etats-23/
LOCATION:Quartier Montreuil\, Versailles\, 78000\, France
CATEGORIES:Ateliers réguliers Versailles
ORGANIZER;CN="Carnets du passage":MAILTO:contact@carnetsdupassage.fr
END:VEVENT
BEGIN:VEVENT
DTSTART;TZID=Europe/Paris:20250617T093000
DTEND;TZID=Europe/Paris:20250617T120000
DTSTAMP:20260425T170716
CREATED:20240703T221552Z
LAST-MODIFIED:20240703T221552Z
UID:1400-1750152600-1750161600@carnetsdupassage.fr
SUMMARY:Explorer le champ des possibles
DESCRIPTION:Atelier régulier. Sur les pas d’auteurs célèbres\, faites de l’écriture un vaste champ d’expérimentations créatives.\nAvec Anne-Sophie Prost
URL:http://carnetsdupassage.fr/event/explorer-le-champ-des-possibles-24/
LOCATION:Quartier Montreuil\, Versailles\, 78000\, France
CATEGORIES:Ateliers réguliers Versailles
ORGANIZER;CN="Carnets du passage":MAILTO:contact@carnetsdupassage.fr
END:VEVENT
BEGIN:VEVENT
DTSTART;TZID=Europe/Paris:20250618T193000
DTEND;TZID=Europe/Paris:20250618T220000
DTSTAMP:20260425T170716
CREATED:20240703T234502Z
LAST-MODIFIED:20240703T234502Z
UID:1461-1750275000-1750284000@carnetsdupassage.fr
SUMMARY:Écrire et voyager
DESCRIPTION:Atelier régulier.\nVagabondez d’un espace à un autre\, voyagez à travers les mots vers des mondes réels ou imaginaires.\nAvec Anne-Sophie Prost
URL:http://carnetsdupassage.fr/event/ecrire-et-voyager-21/
LOCATION:Quartier Montreuil\, Versailles\, 78000\, France
CATEGORIES:Ateliers réguliers Versailles
ORGANIZER;CN="Carnets du passage":MAILTO:contact@carnetsdupassage.fr
END:VEVENT
BEGIN:VEVENT
DTSTART;TZID=Europe/Paris:20250619T093000
DTEND;TZID=Europe/Paris:20250619T120000
DTSTAMP:20260425T170716
CREATED:20240703T231308Z
LAST-MODIFIED:20250615T164500Z
UID:1430-1750325400-1750334400@carnetsdupassage.fr
SUMMARY:La fabrique des personnages
DESCRIPTION:Atelier régulier.\nInsufflez la vie à vos personnages en leur donnant corps\, voix\, personnalité et émotions.\nAvec Anne-Sophie Prost
URL:http://carnetsdupassage.fr/event/la-fabrique-es-personnages/
LOCATION:Quartier Montreuil\, Versailles\, 78000\, France
CATEGORIES:Ateliers réguliers Versailles
ORGANIZER;CN="Carnets du passage":MAILTO:contact@carnetsdupassage.fr
END:VEVENT
END:VCALENDAR