BEGIN:VCALENDAR
VERSION:2.0
PRODID:-//Carnets du passage - ECPv6.15.20//NONSGML v1.0//EN
CALSCALE:GREGORIAN
METHOD:PUBLISH
X-ORIGINAL-URL:http://carnetsdupassage.fr
X-WR-CALDESC:Évènements pour Carnets du passage
REFRESH-INTERVAL;VALUE=DURATION:PT1H
X-Robots-Tag:noindex
X-PUBLISHED-TTL:PT1H
BEGIN:VTIMEZONE
TZID:Europe/Paris
BEGIN:DAYLIGHT
TZOFFSETFROM:+0100
TZOFFSETTO:+0200
TZNAME:CEST
DTSTART:20230326T010000
END:DAYLIGHT
BEGIN:STANDARD
TZOFFSETFROM:+0200
TZOFFSETTO:+0100
TZNAME:CET
DTSTART:20231029T010000
END:STANDARD
BEGIN:DAYLIGHT
TZOFFSETFROM:+0100
TZOFFSETTO:+0200
TZNAME:CEST
DTSTART:20240331T010000
END:DAYLIGHT
BEGIN:STANDARD
TZOFFSETFROM:+0200
TZOFFSETTO:+0100
TZNAME:CET
DTSTART:20241027T010000
END:STANDARD
BEGIN:DAYLIGHT
TZOFFSETFROM:+0100
TZOFFSETTO:+0200
TZNAME:CEST
DTSTART:20250330T010000
END:DAYLIGHT
BEGIN:STANDARD
TZOFFSETFROM:+0200
TZOFFSETTO:+0100
TZNAME:CET
DTSTART:20251026T010000
END:STANDARD
END:VTIMEZONE
BEGIN:VEVENT
DTSTART;TZID=Europe/Paris:20241106T193000
DTEND;TZID=Europe/Paris:20241106T220000
DTSTAMP:20260426T051551
CREATED:20240703T232320Z
LAST-MODIFIED:20240703T232320Z
UID:1438-1730921400-1730930400@carnetsdupassage.fr
SUMMARY:Écrire et voyager
DESCRIPTION:Atelier régulier.\nVagabondez d’un espace à un autre\, voyagez à travers les mots vers des mondes réels ou imaginaires.\nAvec Anne-Sophie Prost
URL:http://carnetsdupassage.fr/event/ecrire-et-voyager-10/
LOCATION:Quartier Montreuil\, Versailles\, 78000\, France
CATEGORIES:Ateliers réguliers Versailles
ORGANIZER;CN="Carnets du passage":MAILTO:contact@carnetsdupassage.fr
END:VEVENT
BEGIN:VEVENT
DTSTART;TZID=Europe/Paris:20241107T093000
DTEND;TZID=Europe/Paris:20241107T120000
DTSTAMP:20260426T051551
CREATED:20240703T225654Z
LAST-MODIFIED:20240703T225654Z
UID:1408-1730971800-1730980800@carnetsdupassage.fr
SUMMARY:La fabrique des personnages
DESCRIPTION:Atelier régulier.\nInsufflez la vie à vos personnages en leur donnant corps\, voix\, personnalité et émotions.\nAvec Anne-Sophie Prost
URL:http://carnetsdupassage.fr/event/la-fabrique-des-personnages-19/
LOCATION:Quartier Montreuil\, Versailles\, 78000\, France
CATEGORIES:Ateliers réguliers Versailles
ORGANIZER;CN="Carnets du passage":MAILTO:contact@carnetsdupassage.fr
END:VEVENT
BEGIN:VEVENT
DTSTART;TZID=Europe/Paris:20241112T093000
DTEND;TZID=Europe/Paris:20241112T120000
DTSTAMP:20260426T051551
CREATED:20240823T182513Z
LAST-MODIFIED:20240823T182737Z
UID:1577-1731403800-1731412800@carnetsdupassage.fr
SUMMARY:Un lieu\, des personnages... toute une histoire !
DESCRIPTION:Atelier régulier\nTravaillez la description\, la caractérisation des personnages\, le point de vue \, l’intrigue\,  le dialogue\, la chute … et prenez plaisir à raconter des histoires\nAvec Anne-Sophie Prost
URL:http://carnetsdupassage.fr/event/un-lieu-des-personnages-toute-une-histoire-12/
LOCATION:Quartier Montreuil\, Versailles\, 78000\, France
CATEGORIES:Ateliers réguliers Versailles
ORGANIZER;CN="Carnets du passage":MAILTO:contact@carnetsdupassage.fr
END:VEVENT
BEGIN:VEVENT
DTSTART;TZID=Europe/Paris:20241115T140000
DTEND;TZID=Europe/Paris:20241115T163000
DTSTAMP:20260426T051551
CREATED:20240704T061018Z
LAST-MODIFIED:20240704T061018Z
UID:1471-1731679200-1731688200@carnetsdupassage.fr
SUMMARY:L'écriture dans tous ses états
DESCRIPTION:Atelier régulier.\nAlternant styles et rythmes\, écrivez le rêve\, le suspense\, le murmure des pensées\, « la vie des gens ».\nAvec Anne-Sophie Prost
URL:http://carnetsdupassage.fr/event/lecriture-dans-tous-ses-etats-13/
LOCATION:Quartier Montreuil\, Versailles\, 78000\, France
CATEGORIES:Ateliers réguliers Versailles
ORGANIZER;CN="Carnets du passage":MAILTO:contact@carnetsdupassage.fr
END:VEVENT
BEGIN:VEVENT
DTSTART;TZID=Europe/Paris:20241119T093000
DTEND;TZID=Europe/Paris:20241119T120000
DTSTAMP:20260426T051551
CREATED:20240703T215737Z
LAST-MODIFIED:20240703T215737Z
UID:1378-1732008600-1732017600@carnetsdupassage.fr
SUMMARY:Explorer le champ des possibles
DESCRIPTION:Atelier régulier. Sur les pas d’auteurs célèbres\, faites de l’écriture un vaste champ d’expérimentations créatives.\nAvec Anne-Sophie Prost
URL:http://carnetsdupassage.fr/event/explorer-le-champ-des-possibles-13/
LOCATION:Quartier Montreuil\, Versailles\, 78000\, France
CATEGORIES:Ateliers réguliers Versailles
ORGANIZER;CN="Carnets du passage":MAILTO:contact@carnetsdupassage.fr
END:VEVENT
BEGIN:VEVENT
DTSTART;TZID=Europe/Paris:20241121T093000
DTEND;TZID=Europe/Paris:20241121T120000
DTSTAMP:20260426T051551
CREATED:20240703T225806Z
LAST-MODIFIED:20240703T225806Z
UID:1410-1732181400-1732190400@carnetsdupassage.fr
SUMMARY:La fabrique des personnages
DESCRIPTION:Atelier régulier.\nInsufflez la vie à vos personnages en leur donnant corps\, voix\, personnalité et émotions.\nAvec Anne-Sophie Prost
URL:http://carnetsdupassage.fr/event/la-fabrique-des-personnages-20/
LOCATION:Quartier Montreuil\, Versailles\, 78000\, France
CATEGORIES:Ateliers réguliers Versailles
ORGANIZER;CN="Carnets du passage":MAILTO:contact@carnetsdupassage.fr
END:VEVENT
BEGIN:VEVENT
DTSTART;TZID=Europe/Paris:20241126T093000
DTEND;TZID=Europe/Paris:20241126T120000
DTSTAMP:20260426T051551
CREATED:20240823T182915Z
LAST-MODIFIED:20240823T182915Z
UID:1583-1732613400-1732622400@carnetsdupassage.fr
SUMMARY:Un lieu\, des personnages... toute une histoire !
DESCRIPTION:Atelier régulier\nTravaillez la description\, la caractérisation des personnages\, le point de vue \, l’intrigue\,  le dialogue\, la chute … et prenez plaisir à raconter des histoires\nAvec Anne-Sophie Prost
URL:http://carnetsdupassage.fr/event/un-lieu-des-personnages-toute-une-histoire-13/
LOCATION:Quartier Montreuil\, Versailles\, 78000\, France
CATEGORIES:Ateliers réguliers Versailles
ORGANIZER;CN="Carnets du passage":MAILTO:contact@carnetsdupassage.fr
END:VEVENT
BEGIN:VEVENT
DTSTART;TZID=Europe/Paris:20241127T193000
DTEND;TZID=Europe/Paris:20241127T220000
DTSTAMP:20260426T051551
CREATED:20240703T232550Z
LAST-MODIFIED:20240703T232550Z
UID:1440-1732735800-1732744800@carnetsdupassage.fr
SUMMARY:Écrire et voyager
DESCRIPTION:Atelier régulier.\nVagabondez d’un espace à un autre\, voyagez à travers les mots vers des mondes réels ou imaginaires.\nAvec Anne-Sophie Prost
URL:http://carnetsdupassage.fr/event/ecrire-et-voyager-11/
LOCATION:Quartier Montreuil\, Versailles\, 78000\, France
CATEGORIES:Ateliers réguliers Versailles
ORGANIZER;CN="Carnets du passage":MAILTO:contact@carnetsdupassage.fr
END:VEVENT
BEGIN:VEVENT
DTSTART;TZID=Europe/Paris:20241129T140000
DTEND;TZID=Europe/Paris:20241129T163000
DTSTAMP:20260426T051551
CREATED:20240704T061137Z
LAST-MODIFIED:20240704T061137Z
UID:1473-1732888800-1732897800@carnetsdupassage.fr
SUMMARY:L'écriture dans tous ses états
DESCRIPTION:Atelier régulier.\nAlternant styles et rythmes\, écrivez le rêve\, le suspense\, le murmure des pensées\, « la vie des gens ».\nAvec Anne-Sophie Prost
URL:http://carnetsdupassage.fr/event/lecriture-dans-tous-ses-etats-14/
LOCATION:Quartier Montreuil\, Versailles\, 78000\, France
CATEGORIES:Ateliers réguliers Versailles
ORGANIZER;CN="Carnets du passage":MAILTO:contact@carnetsdupassage.fr
END:VEVENT
END:VCALENDAR